BEGIN:VCALENDAR
VERSION:2.0
PRODID:-//Putting Pirates - ECPv6.15.20//NONSGML v1.0//EN
CALSCALE:GREGORIAN
METHOD:PUBLISH
X-WR-CALNAME:Putting Pirates
X-ORIGINAL-URL:https://www.puttingpirates.be
X-WR-CALDESC:Events for Putting Pirates
REFRESH-INTERVAL;VALUE=DURATION:PT1H
X-Robots-Tag:noindex
X-PUBLISHED-TTL:PT1H
BEGIN:VTIMEZONE
TZID:Europe/Brussels
BEGIN:DAYLIGHT
TZOFFSETFROM:+0100
TZOFFSETTO:+0200
TZNAME:CEST
DTSTART:20170326T010000
END:DAYLIGHT
BEGIN:STANDARD
TZOFFSETFROM:+0200
TZOFFSETTO:+0100
TZNAME:CET
DTSTART:20171029T010000
END:STANDARD
BEGIN:DAYLIGHT
TZOFFSETFROM:+0100
TZOFFSETTO:+0200
TZNAME:CEST
DTSTART:20180325T010000
END:DAYLIGHT
BEGIN:STANDARD
TZOFFSETFROM:+0200
TZOFFSETTO:+0100
TZNAME:CET
DTSTART:20181028T010000
END:STANDARD
BEGIN:DAYLIGHT
TZOFFSETFROM:+0100
TZOFFSETTO:+0200
TZNAME:CEST
DTSTART:20190331T010000
END:DAYLIGHT
BEGIN:STANDARD
TZOFFSETFROM:+0200
TZOFFSETTO:+0100
TZNAME:CET
DTSTART:20191027T010000
END:STANDARD
END:VTIMEZONE
BEGIN:VEVENT
DTSTART;TZID=Europe/Brussels:20180518T120000
DTEND;TZID=Europe/Brussels:20180519T150000
DTSTAMP:20260422T142254
CREATED:20180327T135446Z
LAST-MODIFIED:20220922T085236Z
UID:327-1526644800-1526742000@www.puttingpirates.be
SUMMARY:Golf @Saint-Omer en Dunkerque
DESCRIPTION:We gaan op twee-daagse naar Frankrijk 18 en 19 mei!\nLocatie:  Golf Saint-Omer\, Lumbres (+-2hr van Brussel)Golfbaan: Saint-Omer en Golf Blue Green de Dunkerque\nLET OP: Prijs: €239\,00 voor 2 x green fee + ontbijt + overnachting in single kamer (partner welkom) excl. drank en eten\nMinimum handicap: 36\nAgenda:18/05\n\n\n\n12:00 check-in hotel\n\n\n13:10 depart first flight\n\n\n19:00 apero\n\n\n20:00 dinner\n\n\n\n19/05\n\n\n\n09:00 check-out en vertrek naar Dunkerque\n\n\n10:30 depart first flight\n\n\n15:00 wrap-up op het terras en groepsfoto\n\n\n\n\nGelieve deelname te bevestigen voor 15 april via de RSVP en 50€ over te schrijven als voorschot op BE76 6511 4047 4695
URL:https://www.puttingpirates.be/event/golf-saint-omer-en-dunkerque/
LOCATION:Golf Saint-Omer\, Chemin du Bois\, Acquin-Westbécourt\, 62380\, France
END:VEVENT
END:VCALENDAR