BEGIN:VCALENDAR
VERSION:2.0
PRODID:-//Putting Pirates - ECPv6.15.20//NONSGML v1.0//EN
CALSCALE:GREGORIAN
METHOD:PUBLISH
X-WR-CALNAME:Putting Pirates
X-ORIGINAL-URL:https://www.puttingpirates.be
X-WR-CALDESC:Events for Putting Pirates
REFRESH-INTERVAL;VALUE=DURATION:PT1H
X-Robots-Tag:noindex
X-PUBLISHED-TTL:PT1H
BEGIN:VTIMEZONE
TZID:Europe/Brussels
BEGIN:DAYLIGHT
TZOFFSETFROM:+0100
TZOFFSETTO:+0200
TZNAME:CEST
DTSTART:20180325T010000
END:DAYLIGHT
BEGIN:STANDARD
TZOFFSETFROM:+0200
TZOFFSETTO:+0100
TZNAME:CET
DTSTART:20181028T010000
END:STANDARD
BEGIN:DAYLIGHT
TZOFFSETFROM:+0100
TZOFFSETTO:+0200
TZNAME:CEST
DTSTART:20190331T010000
END:DAYLIGHT
BEGIN:STANDARD
TZOFFSETFROM:+0200
TZOFFSETTO:+0100
TZNAME:CET
DTSTART:20191027T010000
END:STANDARD
BEGIN:DAYLIGHT
TZOFFSETFROM:+0100
TZOFFSETTO:+0200
TZNAME:CEST
DTSTART:20200329T010000
END:DAYLIGHT
BEGIN:STANDARD
TZOFFSETFROM:+0200
TZOFFSETTO:+0100
TZNAME:CET
DTSTART:20201025T010000
END:STANDARD
END:VTIMEZONE
BEGIN:VEVENT
DTSTART;TZID=Europe/Brussels:20190621T120000
DTEND;TZID=Europe/Brussels:20190621T233000
DTSTAMP:20260419T210938
CREATED:20181218T160532Z
LAST-MODIFIED:20220922T084625Z
UID:489-1561118400-1561159800@www.puttingpirates.be
SUMMARY:Tournament vs Sultans of Swing
DESCRIPTION:Op vrijdag 21 Juni organiseren we de eerste van onze top 2 events van 2019 op G.C.C. Oudenaarde.\nWe spelen “Kasteel”\, uitgeroepen tot tweede mooiste golfbaan van Vlaanderen in 2019. \nVoor het eerst in onze geschiedenis houden we een competitie tegen een gelijkgestemde groep golfers\, “The Sultans of Swing”. \nProgramma : \n11u30: ontvangst met koffie\, thee\, vruchtensappen en cake – Overhandigen scorekaart en drankbonnetjes. \n12u44: afslag 1ste flight – single stableford/ “Canadian matchplay” \nAan de afslag van Hole 9\, beter bekend als “Bob”\, worden jullie verwend met een smakelijke verrassing. \nNa de wedstrijd kunnen jullie de dorst lessen op het prachtige terras met uitzicht op de green van hole 18. \n20u00: Prijsuitreiking met gin tonic en amuses \n20u45: Luxe BBQ met wijnen en waters \nHopelijk laat het weer ons toe om op deze langste dag van het jaar buiten te genieten van deze toplocatie en de compagnie!\nInschrijven tegen uiterlijk 16 juni via The Putting Pirate Website RSVP + tegelijkertijd storten van het inschrijvingsgeld 150 euro/persoon op Sultanrekening: BE09 0635 2775 9857. \nWe zijn op zoek naar 20 Putting Pirates\, dus hopelijk mogen wij jullie talrijk begroeten. \nVoor vragen: Dieter De Pauw – dieter.depauw@proximus.com- 0495 592 342
URL:https://www.puttingpirates.be/event/tournament-vs-sultans-of-swing/
LOCATION:Golf & Country Club Oudenaarde\, Kortrijkstraat 52\, Wortegem-Petegem\, 9790\, België
END:VEVENT
END:VCALENDAR