BEGIN:VCALENDAR
VERSION:2.0
PRODID:-//Putting Pirates - ECPv6.15.20//NONSGML v1.0//EN
CALSCALE:GREGORIAN
METHOD:PUBLISH
X-ORIGINAL-URL:https://www.puttingpirates.be
X-WR-CALDESC:Events for Putting Pirates
REFRESH-INTERVAL;VALUE=DURATION:PT1H
X-Robots-Tag:noindex
X-PUBLISHED-TTL:PT1H
BEGIN:VTIMEZONE
TZID:Europe/Brussels
BEGIN:DAYLIGHT
TZOFFSETFROM:+0100
TZOFFSETTO:+0200
TZNAME:CEST
DTSTART:20170326T010000
END:DAYLIGHT
BEGIN:STANDARD
TZOFFSETFROM:+0200
TZOFFSETTO:+0100
TZNAME:CET
DTSTART:20171029T010000
END:STANDARD
BEGIN:DAYLIGHT
TZOFFSETFROM:+0100
TZOFFSETTO:+0200
TZNAME:CEST
DTSTART:20180325T010000
END:DAYLIGHT
BEGIN:STANDARD
TZOFFSETFROM:+0200
TZOFFSETTO:+0100
TZNAME:CET
DTSTART:20181028T010000
END:STANDARD
BEGIN:DAYLIGHT
TZOFFSETFROM:+0100
TZOFFSETTO:+0200
TZNAME:CEST
DTSTART:20190331T010000
END:DAYLIGHT
BEGIN:STANDARD
TZOFFSETFROM:+0200
TZOFFSETTO:+0100
TZNAME:CET
DTSTART:20191027T010000
END:STANDARD
END:VTIMEZONE
BEGIN:VEVENT
DTSTART;TZID=Europe/Brussels:20180308T120000
DTEND;TZID=Europe/Brussels:20180308T180000
DTSTAMP:20260422T155546
CREATED:20171227T143807Z
LAST-MODIFIED:20220922T085312Z
UID:256-1520510400-1520532000@www.puttingpirates.be
SUMMARY:Business Review @Brasschaat
DESCRIPTION:
URL:https://www.puttingpirates.be/event/business-review-18/
LOCATION:Brasschaat Open Golf & Country Club\, Miksebaan 248\, Brasschaat\, 2930\, België
END:VEVENT
END:VCALENDAR