BEGIN:VCALENDAR
VERSION:2.0
PRODID:-//Putting Pirates - ECPv6.15.20//NONSGML v1.0//EN
CALSCALE:GREGORIAN
METHOD:PUBLISH
X-WR-CALNAME:Putting Pirates
X-ORIGINAL-URL:https://www.puttingpirates.be
X-WR-CALDESC:Events for Putting Pirates
REFRESH-INTERVAL;VALUE=DURATION:PT1H
X-Robots-Tag:noindex
X-PUBLISHED-TTL:PT1H
BEGIN:VTIMEZONE
TZID:Europe/Brussels
BEGIN:DAYLIGHT
TZOFFSETFROM:+0100
TZOFFSETTO:+0200
TZNAME:CEST
DTSTART:20170326T010000
END:DAYLIGHT
BEGIN:STANDARD
TZOFFSETFROM:+0200
TZOFFSETTO:+0100
TZNAME:CET
DTSTART:20171029T010000
END:STANDARD
BEGIN:DAYLIGHT
TZOFFSETFROM:+0100
TZOFFSETTO:+0200
TZNAME:CEST
DTSTART:20180325T010000
END:DAYLIGHT
BEGIN:STANDARD
TZOFFSETFROM:+0200
TZOFFSETTO:+0100
TZNAME:CET
DTSTART:20181028T010000
END:STANDARD
BEGIN:DAYLIGHT
TZOFFSETFROM:+0100
TZOFFSETTO:+0200
TZNAME:CEST
DTSTART:20190331T010000
END:DAYLIGHT
BEGIN:STANDARD
TZOFFSETFROM:+0200
TZOFFSETTO:+0100
TZNAME:CET
DTSTART:20191027T010000
END:STANDARD
END:VTIMEZONE
BEGIN:VEVENT
DTSTART;TZID=Europe/Brussels:20180928T120000
DTEND;TZID=Europe/Brussels:20180928T180000
DTSTAMP:20260420T091803
CREATED:20171227T144612Z
LAST-MODIFIED:20220922T084841Z
UID:268-1538136000-1538157600@www.puttingpirates.be
SUMMARY:Lilse Classic 2018
DESCRIPTION:
URL:https://www.puttingpirates.be/event/lilse-classic-2018/
LOCATION:Lilse Golf & Country\, Haarlebeek 3\, Lille\, 2275\, België
END:VEVENT
BEGIN:VEVENT
DTSTART;TZID=Europe/Brussels:20180928T120000
DTEND;TZID=Europe/Brussels:20180928T180000
DTSTAMP:20260420T091803
CREATED:20171227T144612Z
LAST-MODIFIED:20220922T084907Z
UID:1829-1538136000-1538157600@www.puttingpirates.be
SUMMARY:Lilse Classic 2018
DESCRIPTION:
URL:https://www.puttingpirates.be/event/lilse-classic-2018-2/
LOCATION:Lilse Golf & Country\, Haarlebeek 3\, Lille\, 2275\, België
END:VEVENT
END:VCALENDAR