BEGIN:VCALENDAR
VERSION:2.0
PRODID:-//Putting Pirates - ECPv6.15.20//NONSGML v1.0//EN
CALSCALE:GREGORIAN
METHOD:PUBLISH
X-WR-CALNAME:Putting Pirates
X-ORIGINAL-URL:https://www.puttingpirates.be
X-WR-CALDESC:Events for Putting Pirates
REFRESH-INTERVAL;VALUE=DURATION:PT1H
X-Robots-Tag:noindex
X-PUBLISHED-TTL:PT1H
BEGIN:VTIMEZONE
TZID:Europe/Brussels
BEGIN:DAYLIGHT
TZOFFSETFROM:+0100
TZOFFSETTO:+0200
TZNAME:CEST
DTSTART:20180325T010000
END:DAYLIGHT
BEGIN:STANDARD
TZOFFSETFROM:+0200
TZOFFSETTO:+0100
TZNAME:CET
DTSTART:20181028T010000
END:STANDARD
BEGIN:DAYLIGHT
TZOFFSETFROM:+0100
TZOFFSETTO:+0200
TZNAME:CEST
DTSTART:20190331T010000
END:DAYLIGHT
BEGIN:STANDARD
TZOFFSETFROM:+0200
TZOFFSETTO:+0100
TZNAME:CET
DTSTART:20191027T010000
END:STANDARD
BEGIN:DAYLIGHT
TZOFFSETFROM:+0100
TZOFFSETTO:+0200
TZNAME:CEST
DTSTART:20200329T010000
END:DAYLIGHT
BEGIN:STANDARD
TZOFFSETFROM:+0200
TZOFFSETTO:+0100
TZNAME:CET
DTSTART:20201025T010000
END:STANDARD
END:VTIMEZONE
BEGIN:VEVENT
DTSTART;TZID=Europe/Brussels:20191017T125000
DTEND;TZID=Europe/Brussels:20191017T170000
DTSTAMP:20260419T135127
CREATED:20181218T160957Z
LAST-MODIFIED:20220922T084052Z
UID:498-1571316600-1571331600@www.puttingpirates.be
SUMMARY:Business Review @Kampenhout
DESCRIPTION:Ready for a friendly round of golf at the place where it all started? This Business Review is at Kampenhout\, first tee at 12.50h\, 4 flights available. Use the RSVP below to confirm your presence.
URL:https://www.puttingpirates.be/event/business-review-31/
LOCATION:Golfclub Kampenhout\, Wildersedreef 56\, Kampenhout\, 1910
END:VEVENT
END:VCALENDAR